BEGIN:VCALENDAR
VERSION:2.0
PRODID:-//Nag&#039;s Head - ECPv4.8.2//NONSGML v1.0//EN
CALSCALE:GREGORIAN
METHOD:PUBLISH
X-WR-CALNAME:Nag&#039;s Head
X-ORIGINAL-URL:https://nagshead.it
X-WR-CALDESC:Eventi per Nag&#039;s Head
BEGIN:VEVENT
DTSTART;TZID=Europe/Rome:20260426T120000
DTEND;TZID=Europe/Rome:20260426T233000
DTSTAMP:20260424T022632
CREATED:20241126T143334Z
LAST-MODIFIED:20260423T215310Z
UID:14187-1777204800-1777246200@nagshead.it
SUMMARY:PARTITE DOMENICA 26 APRILE
DESCRIPTION:
URL:https://nagshead.it/event/partite-domenica-26-aprile/
LOCATION:Nag’s Head\, Via IV Novembre 138B\, Roma\, Roma\, 00187\, Italia
CATEGORIES:Weekly Sports Events
ATTACH;FMTTYPE=image/png:https://nagshead.it/wp-content/uploads/2024/11/partite-sito-nags-2026-04-23T234826.833-1.png
END:VEVENT
END:VCALENDAR