BEGIN:VCALENDAR
VERSION:2.0
PRODID:-//Nag&#039;s Head - ECPv4.8.2//NONSGML v1.0//EN
CALSCALE:GREGORIAN
METHOD:PUBLISH
X-WR-CALNAME:Nag&#039;s Head
X-ORIGINAL-URL:https://nagshead.it/en/
X-WR-CALDESC:Events for Nag&#039;s Head
BEGIN:VEVENT
DTSTART;TZID=Europe/Rome:20260424T120000
DTEND;TZID=Europe/Rome:20260424T233000
DTSTAMP:20260424T011342
CREATED:20241103T172327Z
LAST-MODIFIED:20260423T215118Z
UID:14101-1777032000-1777073400@nagshead.it
SUMMARY:PARTITE VENERDI 24 APRILE
DESCRIPTION:
URL:https://nagshead.it/en/event/partite-venerdi-24-aprile/
LOCATION:Nag’s Head\, Via IV Novembre 138B\, Roma\, Roma\, 00187\, Italia
CATEGORIES:Weekly Sports Events
ATTACH;FMTTYPE=image/png:https://nagshead.it/wp-content/uploads/2024/11/partite-sito-nags-2026-04-23T234743.124.png
END:VEVENT
END:VCALENDAR